BEGIN:VCALENDAR
VERSION:2.0
PRODID:-//Library Market//iCal Export//EN
BEGIN:VEVENT
SUMMARY:Creative Writing Reading Party
UID:19065
DTSTAMP:20260423T031200Z
DTSTART:20260504T220000Z
DTEND:20260504T233000Z
LOCATION:Palm Harbor Library, 2330 Nebraska Ave., Palm Harbor, FL 34683, U
 nited States
ROOM: Palm Harbor Room
DESCRIPTION:
URL:https://palmharbor.librarycalendar.com/event/creative-writing-reading-
 party-19065
END:VEVENT
END:VCALENDAR
