BEGIN:VCALENDAR
VERSION:2.0
PRODID:-//Library Market//iCal Export//EN
BEGIN:VEVENT
SUMMARY:Cameras &amp; Coffee
UID:18649
DTSTAMP:20260421T063600Z
DTSTART:20260706T210000Z
DTEND:20260706T224500Z
LOCATION:Palm Harbor Library, 2330 Nebraska Ave., Palm Harbor, FL 34683, U
 nited States
ROOM: Palm Room
DESCRIPTION:Come by and talk cameras and everything photography.
URL:https://palmharbor.librarycalendar.com/event/cameras-coffee-18649
END:VEVENT
END:VCALENDAR
